BEGIN:VCALENDAR
VERSION:2.0
PRODID:-//Tukios.com/
BEGIN:VEVENT
UID:a79c0a42-b6b8-4c48-9e56-62f702548e3d@www.chicagolandcremationoptions.com
DTSTAMP:20260420T082024Z
DTSTART:20260318T150000Z
DTEND:20260318T160000Z
SUMMARY:Memorial Service
DESCRIPTION:
URL:https://www.chicagolandcremationoptions.com/obituary/maria-sapienza-digiacinto
LOCATION: 320 S Washington St  Park Ridge IL 60068
GEO:42.0088796;-87.8266664
END:VEVENT
END:VCALENDAR