BEGIN:VCALENDAR
VERSION:2.0
PRODID:-//Tukios.com/
BEGIN:VEVENT
UID:ea554270-cd3e-443b-ae21-266f2af05b3d@www.chicagolandcremationoptions.com
DTSTAMP:20260424T221517Z
DTSTART:20260426T200000Z
DTEND:20260427T000000Z
SUMMARY:Visitation
DESCRIPTION:
URL:https://www.chicagolandcremationoptions.com/obituary/sophia-kantaris
LOCATION:Nelson Funeral Home 820 W Talcott Rd  Park Ridge IL 60068
GEO:41.9985486;-87.8356519
END:VEVENT
END:VCALENDAR